BEGIN:VCALENDAR
VERSION:2.0
PRODID:-//Fantast Media - ECPv6.2.9//NONSGML v1.0//EN
CALSCALE:GREGORIAN
METHOD:PUBLISH
X-ORIGINAL-URL:https://fantastmedia.com
X-WR-CALDESC:Events for Fantast Media
REFRESH-INTERVAL;VALUE=DURATION:PT1H
X-Robots-Tag:noindex
X-PUBLISHED-TTL:PT1H
BEGIN:VTIMEZONE
TZID:America/Chicago
BEGIN:DAYLIGHT
TZOFFSETFROM:-0600
TZOFFSETTO:-0500
TZNAME:CDT
DTSTART:20220313T080000
END:DAYLIGHT
BEGIN:STANDARD
TZOFFSETFROM:-0500
TZOFFSETTO:-0600
TZNAME:CST
DTSTART:20221106T070000
END:STANDARD
TZID:America/New_York
BEGIN:DAYLIGHT
TZOFFSETFROM:-0500
TZOFFSETTO:-0400
TZNAME:EDT
DTSTART:20200308T070000
END:DAYLIGHT
BEGIN:STANDARD
TZOFFSETFROM:-0400
TZOFFSETTO:-0500
TZNAME:EST
DTSTART:20201101T060000
END:STANDARD
BEGIN:DAYLIGHT
TZOFFSETFROM:-0500
TZOFFSETTO:-0400
TZNAME:EDT
DTSTART:20210314T070000
END:DAYLIGHT
BEGIN:STANDARD
TZOFFSETFROM:-0400
TZOFFSETTO:-0500
TZNAME:EST
DTSTART:20211107T060000
END:STANDARD
END:VTIMEZONE
BEGIN:VEVENT
DTSTART;TZID=America/Chicago:20220227T183000
DTEND;TZID=America/Chicago:20220227T203000
DTSTAMP:20260425T122837
CREATED:20220226T165222Z
LAST-MODIFIED:20220226T165222Z
UID:26061-1645986600-1645993800@fantastmedia.com
SUMMARY:Ummeed Virtual Concert by FCCRS
DESCRIPTION:FCCRS\, Jaz CreationZ and VOPA Presents Ummeed – a musical virtual event to benefit Manish fight cancer with pioneering CAR T-Cell Therapy at MD Anderson. Enjoy the evening as Houston talents come together to help campaign for Hope\, Faith\, and Love. Donate generously at www.fccrs.org.
URL:https://fantastmedia.com/show/ummeed-virtual-concert-by-fccrs/
LOCATION:Online
CATEGORIES:Dance,Music
ATTACH;FMTTYPE=image/png:https://fantastmedia.com/wp-content/uploads/2022/02/FCCRSFeb27.png
END:VEVENT
BEGIN:VEVENT
DTSTART;TZID=America/New_York:20211002T210000
DTEND;TZID=America/New_York:20211002T223000
DTSTAMP:20260425T122837
CREATED:20211023T223439Z
LAST-MODIFIED:20211023T223439Z
UID:26038-1633208400-1633213800@fantastmedia.com
SUMMARY:Katha Virtual Concert by Arts Without Borders
DESCRIPTION:Arts Without Borders Present KATHA – Stories told through dance. \nLife is a tapestry of stories woven with threads of emotions\, thoughts\, and experiences that connect us as human beings. Arts Without Borders is on a mission to tell these stories through dance no matter whose stories they are\, what they are about\, and where they are from. Driven by this mission\, we proudly present Katha- stories of seemingly ordinary people\, doing extraordinary things once they decide to stand up against the marginalization and discrimination they face and reclaim their identity. The first performance is a Bharatanatyam dance which draws on the ancient Hindu concept of ARDHANARESHWAR\, or the symbolic unity between the male and the female\, and through a skit called “Docile to Durga” makes a statement against domestic violence. The second performance called “Walking on Clouds” reflects similarities and challenges faced by people of disabilities and color. \nPlease join us to watch these outstanding virtual performances on Oct 2\, 2021 at 9PM EST and show your support for a kinder and more inclusive world. \nGuests:\nShoba Narayan\nDianne McIntyre
URL:https://fantastmedia.com/show/katha-virtual-concert-by-arts-without-borders/
LOCATION:Online
CATEGORIES:Dance,Music
ATTACH;FMTTYPE=image/png:https://fantastmedia.com/wp-content/uploads/2021/10/Event_KathaAWBOct02.png
END:VEVENT
BEGIN:VEVENT
DTSTART;TZID=America/New_York:20210501T210000
DTEND;TZID=America/New_York:20210501T223000
DTSTAMP:20260425T122837
CREATED:20210501T043434Z
LAST-MODIFIED:20210501T043434Z
UID:26008-1619902800-1619908200@fantastmedia.com
SUMMARY:Sparsh - Healing Through Creativity - Show 4
DESCRIPTION:Arts without Borders (AWB) presents its fourth program of the online series “Sparsh: Healing through Creativity” on May 1st at 9 pm EST via YouTube Live. In this fourth event\, join us to revel in the magic created by the unique marriage of dance and instrumental music. “Geetam Vadyam Tatha Nrityam\, Trayam Sangeet Muchyate” – Music has a three fold path – Vocal\, Instrumental\, and Dance. \nPerformers will be:\nAlice Blumenfeld – Flamenco Dance\nLiam Smith – Cajon Drums\nSanjib Bhattacharya – Manipuri Dance\nJagannath Lairenjam- Pung Cholom
URL:https://fantastmedia.com/show/sparsh-healing-through-creativity-show-4/
LOCATION:Online
CATEGORIES:Dance,Music
ATTACH;FMTTYPE=image/png:https://fantastmedia.com/wp-content/uploads/2021/05/Sparsh4_AWB.png
END:VEVENT
BEGIN:VEVENT
DTSTART;TZID=America/New_York:20210306T210000
DTEND;TZID=America/New_York:20210306T223000
DTSTAMP:20260425T122837
CREATED:20210307T005355Z
LAST-MODIFIED:20210307T005355Z
UID:25965-1615064400-1615069800@fantastmedia.com
SUMMARY:Sparsh - Healing through Creativity - Show 3
DESCRIPTION:Arts without Borders (AWB) presents its third program of the online series “Sparsh: Healing through Creativity” on March 6th at 9 pm EST via YouTube Live. Since its inception in 2015\, AWB has provided a platform to promote classical art forms and artists from around the globe. To spread a message of hope and healing through arts during this time of the pandemic\, AWB is transcending borders through the online series\, Sparsh. \nIn this third event\, join us for a splendid hour of Dance\, Music & Creativity. Performers will be:\nPritam Ghosal – Sarod\nUtpal Ghoshal – Tabla\nMasha Andreini – Violin\nKalyani Veturi – Kuchipudi\nBrain Murphy – Ballet
URL:https://fantastmedia.com/show/sparsh-healing-through-creativity-show-3/
LOCATION:Online
CATEGORIES:Dance,Music
ATTACH;FMTTYPE=image/png:https://fantastmedia.com/wp-content/uploads/2021/03/Sparsh3_AWB.png
END:VEVENT
BEGIN:VEVENT
DTSTART;TZID=America/New_York:20201121T120000
DTEND;TZID=America/New_York:20201121T133000
DTSTAMP:20260425T122837
CREATED:20201202T002258Z
LAST-MODIFIED:20201202T010207Z
UID:25828-1605960000-1605965400@fantastmedia.com
SUMMARY:Sparsh- Healing through Creativity #2
DESCRIPTION:Arts without Borders (AWB) presents its 2nd program of the online series “Sparsh: Healing through Creativity” on November 20th at 12 pm EST via YouTube Live. \nSince its inception in 2015\, AWB has provided a platform to promote classical art forms and artists from around the globe. To spread a message of hope and healing through arts during this time of the pandemic\, AWB is transcending borders through the online series\, Sparsh. In its second event\, Hindustani vocalist Anirban Bhattacharyya will enthrall us with his melody along with a synthesis with dancer soloist Kaustavi Sarkar. We will also be joined by two very talented musicians from India – Chadrachur Bhattacharjee on the sitar and Utpal Goshal on the Tabla. \nPlease consider making a small donation by clicking the link : www.theartswithoutborders.org\n100% of your donation will go to artists suffering due to this global pandemic. \nThis free program is supported by Cleveland Foundation.
URL:https://fantastmedia.com/show/sparsh-healing-through-creativity-2/
LOCATION:Online
CATEGORIES:Dance,Music
ATTACH;FMTTYPE=image/png:https://fantastmedia.com/wp-content/uploads/2020/12/Sparsh2_AWB.png
END:VEVENT
BEGIN:VEVENT
DTSTART;TZID=America/New_York:20201107T163000
DTEND;TZID=America/New_York:20201107T190000
DTSTAMP:20260425T122837
CREATED:20201030T153209Z
LAST-MODIFIED:20201030T153209Z
UID:25779-1604766600-1604775600@fantastmedia.com
SUMMARY:SAC Youth Council Presents By The Youth For The Youth
DESCRIPTION:
URL:https://fantastmedia.com/show/sac-youth-council-presents-by-the-youth-for-the-youth/
LOCATION:Online
CATEGORIES:Dance,Music,Poetry
ATTACH;FMTTYPE=image/png:https://fantastmedia.com/wp-content/uploads/2020/10/Youth_SAC.png
END:VEVENT
BEGIN:VEVENT
DTSTART;TZID=America/New_York:20201107T103000
DTEND;TZID=America/New_York:20201109T103000
DTSTAMP:20260425T122837
CREATED:20201030T033117Z
LAST-MODIFIED:20201108T163206Z
UID:25758-1604745000-1604917800@fantastmedia.com
SUMMARY:Global Bijoya
DESCRIPTION:Pujo came and pujo went in ruthless quiet this 2020. But we are not done yet! No matter where in the world you are\, you are invited to join a Global Bijoya celebration studded with all your timeless favorites from Bengal! \nA star-studded after-party\, the JSE produced and Sourendro-Soumyojit directed Pujor Jolsa will be available to you on Nov 7 worldwide. \n			\n			\n				\n				\n				\n				\n			\n				\n				\n				\n				\n				\n				\n				\n				\n				\n				\n				This is an access-controlled show\n			\n				\n				\n				\n				\n				This Show is completed.
URL:https://fantastmedia.com/show/global-bijoya/
LOCATION:Online
CATEGORIES:Dance,Music,Poetry
ATTACH;FMTTYPE=image/jpeg:https://fantastmedia.com/wp-content/uploads/2020/10/Global_BijoyaC.jpeg
END:VEVENT
BEGIN:VEVENT
DTSTART;TZID=America/New_York:20200912T203000
DTEND;TZID=America/New_York:20200912T223000
DTSTAMP:20260425T122837
CREATED:20200829T112939Z
LAST-MODIFIED:20200829T112939Z
UID:25489-1599942600-1599949800@fantastmedia.com
SUMMARY:Atithi Devo Bhava
DESCRIPTION:Musical Dance Drama by Sapphire Creations. Sapphire Creations is Eastern India’s only experimental dance company striving to develop an organic\, radical\, dynamic\, and alternative idiom of movement. This dance drama piece अतिथि देवो भव starts with the chanting of the verse mentioned in the Taittiriya Upanishad along with the dramatic welcome sequence framed as a ritualistic ceremony. Then it takes audience to a journey through the enriching culture of Bharat. A collage of dances\, music\, percussion\, instruments\, visuals\, costumes from East\, West\, South\, and North of India would be presented. The piece would end with the spirit of the country coming alive as the Mother Goddess\, Mother India welcoming all to her fold.
URL:https://fantastmedia.com/show/atithi-devo-bhava/
LOCATION:Online
CATEGORIES:Dance
ATTACH;FMTTYPE=image/png:https://fantastmedia.com/wp-content/uploads/2020/08/SAC-Atithi.png
END:VEVENT
END:VCALENDAR